View In:
ArcGIS JavaScript
ArcGIS Online Map Viewer
ArcGIS Earth
ArcMap
View Footprint In:
ArcGIS Online Map Viewer
Service Description: BaseMap/sfondodiffuso_utm_image
Name: BaseMap/sfondodiffuso_utm_image
Description:
Single Fused Map Cache: false
Extent:
XMin: 453872.60481660895
YMin: 4943682.459565328
XMax: 697588.0064033448
YMax: 5165998.259811466
Spatial Reference: 32632
(32632)
LatestVCSWkid(0)
Initial Extent:
XMin: 453872.60481660895
YMin: 4943682.459565328
XMax: 697588.0064033448
YMax: 5165998.259811466
Spatial Reference: 32632
(32632)
LatestVCSWkid(0)
Full Extent:
XMin: 453872.60481660895
YMin: 4943682.459565328
XMax: 697588.0064033448
YMax: 5165998.259811466
Spatial Reference: 32632
(32632)
LatestVCSWkid(0)
Pixel Size X: 39.99924529570587
Pixel Size Y: 39.99924437677891
Band Count: 3
Pixel Type: U8
RasterFunction Infos: {"rasterFunctionInfos": [{
"name": "None",
"description": "",
"help": ""
}]}
Mensuration Capabilities: Basic
Has Histograms: true
Has Colormap: false
Has Multi Dimensions : false
Rendering Rule:
Min Scale: 0
Max Scale: 0
Copyright Text:
Service Data Type: esriImageServiceDataTypeRGB
Min Values: 108, 108, 99
Max Values: 255, 255, 255
Mean Values: 234.35598821009154, 240.89075131905034, 229.7655081985492
Standard Deviation Values: 24.79202855451335, 21.138767783557864, 28.24934420970501
Object ID Field:
Fields:
None
Default Mosaic Method: Center
Allowed Mosaic Methods:
SortField:
SortValue: null
Mosaic Operator: First
Default Compression Quality: 75
Default Resampling Method: Bilinear
Max Record Count: null
Max Image Height: 4100
Max Image Width: 15000
Max Download Image Count: null
Max Mosaic Image Count: null
Allow Raster Function: true
Allow Copy: null
Allow Analysis: null
Allow Compute TiePoints: false
Supports Statistics: false
Supports Advanced Queries: false
Use StandardizedQueries: false
Raster Type Infos:
Name: Raster Dataset
Description: Supports all ArcGIS Raster Datasets
Help:
Has Raster Attribute Table: false
Edit Fields Info: null
Ownership Based AccessControl For Rasters: null
Child Resources:
Info
Histograms
Key Properties
Legend
Raster Function Infos
Supported Operations:
Export Image
Identify
Measure
Compute Histograms
Compute Statistics Histograms
Get Samples
Compute Class Statistics
Query Boundary
Compute Pixel Location
Compute Angles
Validate
Project