{
 "currentVersion": 10.91,
 "serviceDescription": "BaseMap/sfondodiffuso_utm_image",
 "name": "BaseMap/sfondodiffuso_utm_image",
 "description": "",
 "extent": {
  "xmin": 453872.60481660895,
  "ymin": 4943682.459565328,
  "xmax": 697588.0064033448,
  "ymax": 5165998.259811466,
  "spatialReference": {
   "wkid": 32632,
   "latestWkid": 32632
  }
 },
 "initialExtent": {
  "xmin": 453872.60481660895,
  "ymin": 4943682.459565328,
  "xmax": 697588.0064033448,
  "ymax": 5165998.259811466,
  "spatialReference": {
   "wkid": 32632,
   "latestWkid": 32632
  }
 },
 "fullExtent": {
  "xmin": 453872.60481660895,
  "ymin": 4943682.459565328,
  "xmax": 697588.0064033448,
  "ymax": 5165998.259811466,
  "spatialReference": {
   "wkid": 32632,
   "latestWkid": 32632
  }
 },
 "pixelSizeX": 39.99924529570587,
 "pixelSizeY": 39.99924437677891,
 "bandCount": 3,
 "pixelType": "U8",
 "minPixelSize": 0,
 "maxPixelSize": 0,
 "copyrightText": "",
 "serviceDataType": "esriImageServiceDataTypeRGB",
 "minValues": [
  108,
  108,
  99
 ],
 "maxValues": [
  255,
  255,
  255
 ],
 "meanValues": [
  234.35598821009154,
  240.89075131905034,
  229.7655081985492
 ],
 "stdvValues": [
  24.79202855451335,
  21.138767783557864,
  28.24934420970501
 ],
 "objectIdField": "",
 "fields": [],
 "capabilities": "Image,Metadata,Mensuration",
 "defaultMosaicMethod": "Center",
 "allowedMosaicMethods": "",
 "sortField": "",
 "sortValue": null,
 "sortAscending": true,
 "mosaicOperator": "First",
 "defaultCompressionQuality": 75,
 "defaultResamplingMethod": "Bilinear",
 "maxImageHeight": 4100,
 "maxImageWidth": 15000,
 "allowRasterFunction": true,
 "rasterFunctionInfos": [
  {
   "name": "None",
   "description": "",
   "help": ""
  }
 ],
 "rasterTypeInfos": [
  {
   "name": "Raster Dataset",
   "description": "Supports all ArcGIS Raster Datasets",
   "help": ""
  }
 ],
 "mensurationCapabilities": "Basic",
 "hasHistograms": true,
 "hasColormap": false,
 "hasRasterAttributeTable": false,
 "minScale": 0,
 "maxScale": 0,
 "exportTilesAllowed": false,
 "hasMultidimensions": false,
 "supportsStatistics": false,
 "supportsAdvancedQueries": false,
 "editFieldsInfo": null,
 "ownershipBasedAccessControlForRasters": null,
 "allowComputeTiePoints": false,
 "useStandardizedQueries": false,
 "advancedQueryCapabilities": {
  "useStandardizedQueries": false,
  "supportsStatistics": false,
  "supportsOrderBy": false,
  "supportsDistinct": false,
  "supportsPagination": false
 },
 "spatialReference": {
  "wkid": 32632,
  "latestWkid": 32632
 }
}
