View In:
ArcGIS JavaScript
ArcGIS Online Map Viewer
ArcGIS Earth
ArcMap
View Footprint In:
ArcGIS Online Map Viewer
Service Description: BaseMap/ctr_1980_1994
Name: BaseMap/ctr_1980_1994
Description:
Single Fused Map Cache: true
Tile Info:
- Height: 256
- Width: 256
- DPI: 96
-
Levels of Detail: 14
- Format: PNG
- Compression Quality: 0.0
- LERC Error: NaN
- Origin: X: -5120900.0
Y: 9998100.0
- Spatial Reference: 32632
(32632)
LatestVCSWkid(0)
Storage Info:
- Storage Format: esriMapCacheStorageModeCompactV2
- Packet Size: 128
Extent:
XMin: 459973.472
YMin: 4944980.675
XMax: 691970.7220000001
YMax: 5169977.05
Spatial Reference: 32632
(32632)
LatestVCSWkid(0)
Initial Extent:
XMin: 459973.472
YMin: 4944980.675
XMax: 691970.7220000001
YMax: 5169977.05
Spatial Reference: 32632
(32632)
LatestVCSWkid(0)
Full Extent:
XMin: 459973.472
YMin: 4944980.675
XMax: 691970.7220000001
YMax: 5169977.05
Spatial Reference: 32632
(32632)
LatestVCSWkid(0)
Pixel Size X: 0.6350000000000001
Pixel Size Y: 0.635
Band Count: 3
Pixel Type: U8
RasterFunction Infos: {"rasterFunctionInfos": [{
"name": "None",
"description": "",
"help": ""
}]}
Mensuration Capabilities: Basic
Has Histograms: true
Has Colormap: false
Has Multi Dimensions : false
Rendering Rule:
Min Scale: 3000000
Max Scale: 1000
Copyright Text:
Service Data Type: esriImageServiceDataTypeRGB
Min Values: 0, 0, 0
Max Values: 255, 255, 255
Mean Values: 237.8450783660677, 237.8450783660677, 237.8450783660677
Standard Deviation Values: 61.55446510649178, 61.55446510649178, 61.55446510649178
Object ID Field:
Fields:
None
Default Mosaic Method: Center
Allowed Mosaic Methods:
SortField:
SortValue: null
Mosaic Operator: First
Default Compression Quality: 75
Default Resampling Method: Bilinear
Max Record Count: null
Max Image Height: 4100
Max Image Width: 15000
Max Download Image Count: null
Max Mosaic Image Count: null
Allow Raster Function: true
Allow Copy: true
Allow Analysis: true
Allow Compute TiePoints: false
Supports Statistics: false
Supports Advanced Queries: false
Use StandardizedQueries: true
Raster Type Infos:
Name: Raster Dataset
Description: Supports all ArcGIS Raster Datasets
Help:
Has Raster Attribute Table: false
Edit Fields Info: null
Ownership Based AccessControl For Rasters: null
Child Resources:
Info
Histograms
Statistics
Key Properties
Legend
Raster Function Infos
Supported Operations:
Export Image
Identify
Measure
Compute Histograms
Compute Statistics Histograms
Get Samples
Compute Class Statistics
Query Boundary
Compute Pixel Location
Compute Angles
Validate
Project