View In:
ArcGIS JavaScript
ArcGIS Online Map Viewer
ArcGIS Earth
ArcMap
View Footprint In:
ArcGIS Online Map Viewer
Service Description: BaseMap/ortofoto2007UTM
Name: BaseMap/ortofoto2007UTM
Description:
Single Fused Map Cache: false
Extent:
XMin: 460668.400843
YMin: 4947421.844277
XMax: 691621.900843
YMax: 5165393.844277
Spatial Reference: 32632
(32632)
LatestVCSWkid(0)
Initial Extent:
XMin: 460668.400843
YMin: 4947421.844277
XMax: 691621.900843
YMax: 5165393.844277
Spatial Reference: 32632
(32632)
LatestVCSWkid(0)
Full Extent:
XMin: 460668.400843
YMin: 4947421.844277
XMax: 691621.900843
YMax: 5165393.844277
Spatial Reference: 32632
(32632)
LatestVCSWkid(0)
Pixel Size X: 0.5000000000000001
Pixel Size Y: 0.5
Band Count: 3
Pixel Type: U8
RasterFunction Infos: {"rasterFunctionInfos": [{
"name": "None",
"description": "",
"help": ""
}]}
Mensuration Capabilities: Basic
Has Histograms: true
Has Colormap: false
Has Multi Dimensions : false
Rendering Rule:
Min Scale: 0
Max Scale: 0
Copyright Text: TerrItaly™– © Compagnia Generale Riprese aeree S.p.A
Service Data Type: esriImageServiceDataTypeRGB
Min Values: 0, 0, 0
Max Values: 255, 255, 255
Mean Values: 94.43618702358398, 111.90081860158963, 99.88533202663133
Standard Deviation Values: 46.85656341329997, 40.642763071825705, 33.62593749170036
Object ID Field:
Fields:
None
Default Mosaic Method: Center
Allowed Mosaic Methods:
SortField:
SortValue: null
Mosaic Operator: First
Default Compression Quality: 75
Default Resampling Method: Bilinear
Max Record Count: null
Max Image Height: 4100
Max Image Width: 15000
Max Download Image Count: null
Max Mosaic Image Count: null
Allow Raster Function: true
Allow Copy: null
Allow Analysis: null
Allow Compute TiePoints: false
Supports Statistics: false
Supports Advanced Queries: false
Use StandardizedQueries: false
Raster Type Infos:
Name: Raster Dataset
Description: Supports all ArcGIS Raster Datasets
Help:
Has Raster Attribute Table: false
Edit Fields Info: null
Ownership Based AccessControl For Rasters: null
Child Resources:
Info
Histograms
Key Properties
Legend
Raster Function Infos
Supported Operations:
Export Image
Identify
Measure
Compute Histograms
Compute Statistics Histograms
Get Samples
Compute Class Statistics
Query Boundary
Compute Pixel Location
Compute Angles
Validate
Project