View In:
ArcGIS JavaScript
ArcGIS Online Map Viewer
ArcGIS Earth
ArcMap
View Footprint In:
ArcGIS Online Map Viewer
Service Description: BaseMap/ortofoto2003
Name: BaseMap/ortofoto2003
Description:
Single Fused Map Cache: true
Tile Info:
- Height: 512
- Width: 512
- DPI: 96
-
Levels of Detail: 14
- Format: JPEG
- Compression Quality: 75.0
- LERC Error: NaN
- Origin: X: -4121200.0
Y: 9998400.0
- Spatial Reference: 102091
(3003)
LatestVCSWkid(0)
Extent:
XMin: 1454120.0
YMin: 4946387.0
XMax: 1695970.5
YMax: 5166020.0
Spatial Reference: 102091
(3003)
LatestVCSWkid(0)
Initial Extent:
XMin: 1454120.0
YMin: 4946387.0
XMax: 1695970.5
YMax: 5166020.0
Spatial Reference: 102091
(3003)
LatestVCSWkid(0)
Full Extent:
XMin: 1454120.0
YMin: 4946387.0
XMax: 1695970.5
YMax: 5166020.0
Spatial Reference: 102091
(3003)
LatestVCSWkid(0)
Pixel Size X: 0.5
Pixel Size Y: 0.5
Band Count: 3
Pixel Type: U8
RasterFunction Infos: {"rasterFunctionInfos": [{
"name": "None",
"description": "",
"help": ""
}]}
Mensuration Capabilities: Basic
Has Histograms: true
Has Colormap: false
Has Multi Dimensions : false
Rendering Rule:
Min Scale: 3000000
Max Scale: 1000
Copyright Text: TerraItaly™ – © Compagnia Generale Riprese aeree S.p.A
Service Data Type: esriImageServiceDataTypeRGB
Min Values: 0, 0, 0
Max Values: 255, 255, 255
Mean Values: 175.29948979740038, 180.73742368679603, 173.25029397040515
Standard Deviation Values: 84.83324348558091, 77.65712809392384, 84.27943546078302
Object ID Field:
Fields:
None
Default Mosaic Method: Center
Allowed Mosaic Methods:
SortField:
SortValue: null
Mosaic Operator: First
Default Compression Quality: 75
Default Resampling Method: Bilinear
Max Record Count: null
Max Image Height: 4100
Max Image Width: 15000
Max Download Image Count: null
Max Mosaic Image Count: null
Allow Raster Function: true
Allow Copy: null
Allow Analysis: null
Allow Compute TiePoints: false
Supports Statistics: false
Supports Advanced Queries: false
Use StandardizedQueries: false
Raster Type Infos:
Name: Raster Dataset
Description: Supports all ArcGIS Raster Datasets
Help:
Has Raster Attribute Table: false
Edit Fields Info: null
Ownership Based AccessControl For Rasters: null
Child Resources:
Info
Histograms
Key Properties
Legend
Raster Function Infos
Supported Operations:
Export Image
Identify
Measure
Compute Histograms
Compute Statistics Histograms
Get Samples
Compute Class Statistics
Query Boundary
Compute Pixel Location
Compute Angles
Validate
Project