View In:
ArcGIS JavaScript
ArcGIS Online Map Viewer
ArcGIS Earth
ArcMap
View Footprint In:
ArcGIS Online Map Viewer
Service Description: L'ortofoto digitale a colori IT2000 è stata realizzata in due edizioni: l'edizione 2000, le cui riprese sono del 1998-99 - l'edizione 2003, con riprese del 2003
Name: BaseMap/ortofoto1998UTM_c
Description: L'ortofoto digitale a colori IT2000 è stata realizzata in due edizioni: l'edizione 2000, le cui riprese sono del 1998-99 - l'edizione 2003, con riprese del 2003
Single Fused Map Cache: false
Extent:
XMin: 454092.1006813422
YMin: 4943901.758896266
XMax: 697369.1006813422
YMax: 5165998.758896266
Spatial Reference: 32632
(32632)
LatestVCSWkid(0)
Initial Extent:
XMin: 454092.1006813422
YMin: 4943901.758896266
XMax: 697369.1006813422
YMax: 5165998.758896266
Spatial Reference: 32632
(32632)
LatestVCSWkid(0)
Full Extent:
XMin: 454092.1006813422
YMin: 4943901.758896266
XMax: 697369.1006813422
YMax: 5165998.758896266
Spatial Reference: 32632
(32632)
LatestVCSWkid(0)
Pixel Size X: 1.0
Pixel Size Y: 1.0
Band Count: 3
Pixel Type: U8
RasterFunction Infos: {"rasterFunctionInfos": [{
"name": "None",
"description": "",
"help": ""
}]}
Mensuration Capabilities: Basic
Has Histograms: true
Has Colormap: false
Has Multi Dimensions : false
Rendering Rule:
Min Scale: 0
Max Scale: 0
Copyright Text: Compagnia Generale Riprese aeree di Parma
Service Data Type: esriImageServiceDataTypeRGB
Min Values: 1, 1, 1
Max Values: 255, 255, 255
Mean Values: 94.814770429468, 106.61175787352, 100.423987544
Standard Deviation Values: 52.334595318763, 44.966868988276, 42.82441276866
Object ID Field:
Fields:
None
Default Mosaic Method: Center
Allowed Mosaic Methods:
SortField:
SortValue: null
Mosaic Operator: First
Default Compression Quality: 75
Default Resampling Method: Bilinear
Max Record Count: null
Max Image Height: 4100
Max Image Width: 15000
Max Download Image Count: null
Max Mosaic Image Count: null
Allow Raster Function: true
Allow Copy: null
Allow Analysis: null
Allow Compute TiePoints: false
Supports Statistics: false
Supports Advanced Queries: false
Use StandardizedQueries: false
Raster Type Infos:
Name: Raster Dataset
Description: Supports all ArcGIS Raster Datasets
Help:
Has Raster Attribute Table: false
Edit Fields Info: null
Ownership Based AccessControl For Rasters: null
Child Resources:
Info
Histograms
Key Properties
Legend
Raster Function Infos
Supported Operations:
Export Image
Identify
Measure
Compute Histograms
Compute Statistics Histograms
Get Samples
Compute Class Statistics
Query Boundary
Compute Pixel Location
Compute Angles
Validate
Project