View In:
ArcGIS JavaScript
ArcGIS Online Map Viewer
ArcGIS Earth
ArcMap
View Footprint In:
ArcGIS Online Map Viewer
Service Description: BaseMap/ortofoto1998
Name: BaseMap/ortofoto1998
Description:
Single Fused Map Cache: false
Extent:
XMin: 1454119.5
YMin: 4943920.499999999
XMax: 1697399.5
YMax: 5166020.499999999
Spatial Reference: 102091
(3003)
LatestVCSWkid(0)
Initial Extent:
XMin: 1454119.5
YMin: 4943920.499999999
XMax: 1697399.5
YMax: 5166020.499999999
Spatial Reference: 102091
(3003)
LatestVCSWkid(0)
Full Extent:
XMin: 1454119.5
YMin: 4943920.499999999
XMax: 1697399.5
YMax: 5166020.499999999
Spatial Reference: 102091
(3003)
LatestVCSWkid(0)
Pixel Size X: 1.0
Pixel Size Y: 1.0
Band Count: 3
Pixel Type: U8
RasterFunction Infos: {"rasterFunctionInfos": [{
"name": "None",
"description": "",
"help": ""
}]}
Mensuration Capabilities: Basic
Has Histograms: true
Has Colormap: false
Has Multi Dimensions : false
Rendering Rule:
Min Scale: 0
Max Scale: 0
Copyright Text: Compagnia Generale Riprese aeree di Parma
Service Data Type: esriImageServiceDataTypeRGB
Min Values: 0, 0, 0
Max Values: 255, 255, 255
Mean Values: 174.4328453345513, 180.3581625031407, 177.05322849791776
Standard Deviation Values: 87.93367896385213, 80.40372851291555, 82.88743274647463
Object ID Field:
Fields:
None
Default Mosaic Method: Center
Allowed Mosaic Methods:
SortField:
SortValue: null
Mosaic Operator: First
Default Compression Quality: 75
Default Resampling Method: Bilinear
Max Record Count: null
Max Image Height: 4100
Max Image Width: 15000
Max Download Image Count: null
Max Mosaic Image Count: null
Allow Raster Function: true
Allow Copy: null
Allow Analysis: null
Allow Compute TiePoints: false
Supports Statistics: false
Supports Advanced Queries: false
Use StandardizedQueries: false
Raster Type Infos:
Name: Raster Dataset
Description: Supports all ArcGIS Raster Datasets
Help:
Has Raster Attribute Table: false
Edit Fields Info: null
Ownership Based AccessControl For Rasters: null
Child Resources:
Info
Histograms
Key Properties
Legend
Raster Function Infos
Supported Operations:
Export Image
Identify
Measure
Compute Histograms
Compute Statistics Histograms
Get Samples
Compute Class Statistics
Query Boundary
Compute Pixel Location
Compute Angles
Validate
Project