View In:
ArcGIS JavaScript
ArcGIS Online Map Viewer
ArcGIS Earth
ArcMap
View Footprint In:
ArcGIS Online Map Viewer
Service Description: BaseMap/lombardia2012UTM32N
Name: BaseMap/lombardia2012UTM32N
Description:
Single Fused Map Cache: true
Tile Info:
- Height: 256
- Width: 256
- DPI: 96
-
Levels of Detail: 14
- Format: PNG
- Compression Quality: 0.0
- LERC Error: NaN
- Origin: X: -5120900.0
Y: 9998100.0
- Spatial Reference: 32632
(32632)
LatestVCSWkid(0)
Extent:
XMin: 460658.99058751296
YMin: 4947434.435220933
XMax: 691622.0426880447
YMax: 5165401.983280191
Spatial Reference: 32632
(32632)
LatestVCSWkid(0)
Initial Extent:
XMin: 460658.99058751296
YMin: 4947434.435220933
XMax: 691622.0426880447
YMax: 5165401.983280191
Spatial Reference: 32632
(32632)
LatestVCSWkid(0)
Full Extent:
XMin: 460658.99058751296
YMin: 4947434.435220933
XMax: 691622.0426880447
YMax: 5165401.983280191
Spatial Reference: 32632
(32632)
LatestVCSWkid(0)
Pixel Size X: 0.49997954756633745
Pixel Size Y: 0.49998290643252347
Band Count: 3
Pixel Type: U8
RasterFunction Infos: {"rasterFunctionInfos": [{
"name": "None",
"description": "",
"help": ""
}]}
Mensuration Capabilities: Basic
Has Histograms: true
Has Colormap: false
Has Multi Dimensions : false
Rendering Rule:
Min Scale: 3000000
Max Scale: 1000
Copyright Text: Regione Lombardia - AGEA: Ortofoto 2012
Service Data Type: esriImageServiceDataTypeRGB
Min Values: 0, 0, 0
Max Values: 255, 255, 255
Mean Values: 89.88980695370621, 104.04030492943467, 90.86423656134285
Standard Deviation Values: 41.94410702339035, 37.58408520197661, 33.5810390406622
Object ID Field:
Fields:
None
Default Mosaic Method: Center
Allowed Mosaic Methods:
SortField:
SortValue: null
Mosaic Operator: First
Default Compression Quality: 75
Default Resampling Method: Bilinear
Max Record Count: null
Max Image Height: 4100
Max Image Width: 15000
Max Download Image Count: null
Max Mosaic Image Count: null
Allow Raster Function: true
Allow Copy: null
Allow Analysis: null
Allow Compute TiePoints: false
Supports Statistics: false
Supports Advanced Queries: false
Use StandardizedQueries: false
Raster Type Infos:
Name: Raster Dataset
Description: Supports all ArcGIS Raster Datasets
Help:
Has Raster Attribute Table: false
Edit Fields Info: null
Ownership Based AccessControl For Rasters: null
Child Resources:
Info
Histograms
Key Properties
Legend
Raster Function Infos
Supported Operations:
Export Image
Identify
Measure
Compute Histograms
Compute Statistics Histograms
Get Samples
Compute Class Statistics
Query Boundary
Compute Pixel Location
Compute Angles
Validate
Project