View In:
ArcGIS JavaScript
ArcGIS Online Map Viewer
ArcGIS Earth
ArcMap
View Footprint In:
ArcGIS Online Map Viewer
Service Description: BaseMap/fisica_utm_image
Name: BaseMap/fisica_utm_image
Description:
Single Fused Map Cache: false
Extent:
XMin: 460659.2162096968
YMin: 4947427.490898353
XMax: 691634.8931696968
YMax: 5165408.0045303535
Spatial Reference: 32632
(32632)
LatestVCSWkid(0)
Initial Extent:
XMin: 460659.2162096968
YMin: 4947427.490898353
XMax: 691634.8931696968
YMax: 5165408.0045303535
Spatial Reference: 32632
(32632)
LatestVCSWkid(0)
Full Extent:
XMin: 460659.2162096968
YMin: 4947427.490898353
XMax: 691634.8931696968
YMax: 5165408.0045303535
Spatial Reference: 32632
(32632)
LatestVCSWkid(0)
Pixel Size X: 12.715424
Pixel Size Y: 12.715424000000025
Band Count: 3
Pixel Type: U16
RasterFunction Infos: {"rasterFunctionInfos": [{
"name": "None",
"description": "",
"help": ""
}]}
Mensuration Capabilities: Basic
Has Histograms: true
Has Colormap: false
Has Multi Dimensions : false
Rendering Rule:
Min Scale: 0
Max Scale: 0
Copyright Text:
Service Data Type: esriImageServiceDataTypeGeneric
Min Values: 0, 0, 0
Max Values: 255, 255, 255
Mean Values: 177.44213141587747, 182.26868850879913, 154.85107124969127
Standard Deviation Values: 60.86235425338084, 60.95685794841419, 59.308221701437766
Object ID Field:
Fields:
None
Default Mosaic Method: Center
Allowed Mosaic Methods:
SortField:
SortValue: null
Mosaic Operator: First
Default Compression Quality: 75
Default Resampling Method: Bilinear
Max Record Count: null
Max Image Height: 4100
Max Image Width: 15000
Max Download Image Count: null
Max Mosaic Image Count: null
Allow Raster Function: true
Allow Copy: null
Allow Analysis: null
Allow Compute TiePoints: false
Supports Statistics: false
Supports Advanced Queries: false
Use StandardizedQueries: false
Raster Type Infos:
Name: Raster Dataset
Description: Supports all ArcGIS Raster Datasets
Help:
Has Raster Attribute Table: false
Edit Fields Info: null
Ownership Based AccessControl For Rasters: null
Child Resources:
Info
Histograms
Key Properties
Legend
Raster Function Infos
Supported Operations:
Export Image
Identify
Measure
Compute Histograms
Compute Statistics Histograms
Get Samples
Compute Class Statistics
Query Boundary
Compute Pixel Location
Compute Angles
Validate
Project