View In:
ArcGIS JavaScript
ArcGIS Online Map Viewer
ArcGIS Earth
ArcMap
View Footprint In:
ArcGIS Online Map Viewer
Service Description: BaseMap/dtm20_utm_image
Name: BaseMap/dtm20_utm_image
Description:
Single Fused Map Cache: false
Extent:
XMin: 460677.69837578974
YMin: 4947371.876840627
XMax: 691626.9900220553
YMax: 5165344.800379542
Spatial Reference: 32632
(32632)
LatestVCSWkid(0)
Initial Extent:
XMin: 460677.69837578974
YMin: 4947371.876840627
XMax: 691626.9900220553
YMax: 5165344.800379542
Spatial Reference: 32632
(32632)
LatestVCSWkid(0)
Full Extent:
XMin: 460677.69837578974
YMin: 4947371.876840627
XMax: 691626.9900220553
YMax: 5165344.800379542
Spatial Reference: 32632
(32632)
LatestVCSWkid(0)
Pixel Size X: 19.999072709236717
Pixel Size Y: 19.999350723820065
Band Count: 3
Pixel Type: U8
RasterFunction Infos: {"rasterFunctionInfos": [{
"name": "None",
"description": "",
"help": ""
}]}
Mensuration Capabilities: Basic
Has Histograms: true
Has Colormap: false
Has Multi Dimensions : false
Rendering Rule:
Min Scale: 0
Max Scale: 0
Copyright Text:
Service Data Type: esriImageServiceDataTypeRGB
Min Values: 0, 0, 0
Max Values: 255, 255, 255
Mean Values: 190.57974137348842, 199.88973692320516, 166.25851847233025
Standard Deviation Values: 70.14434693218364, 62.457470494500015, 92.57611016426435
Object ID Field:
Fields:
None
Default Mosaic Method: Center
Allowed Mosaic Methods:
SortField:
SortValue: null
Mosaic Operator: First
Default Compression Quality: 100
Default Resampling Method: Bilinear
Max Record Count: null
Max Image Height: 4100
Max Image Width: 15000
Max Download Image Count: null
Max Mosaic Image Count: null
Allow Raster Function: true
Allow Copy: null
Allow Analysis: null
Allow Compute TiePoints: false
Supports Statistics: false
Supports Advanced Queries: false
Use StandardizedQueries: false
Raster Type Infos:
Name: Raster Dataset
Description: Supports all ArcGIS Raster Datasets
Help:
Has Raster Attribute Table: false
Edit Fields Info: null
Ownership Based AccessControl For Rasters: null
Child Resources:
Info
Histograms
Key Properties
Legend
Raster Function Infos
Supported Operations:
Export Image
Identify
Measure
Compute Histograms
Compute Statistics Histograms
Get Samples
Compute Class Statistics
Query Boundary
Compute Pixel Location
Compute Angles
Validate
Project