View In:
ArcGIS JavaScript
ArcGIS Online Map Viewer
ArcGIS Earth
ArcMap
View Footprint In:
ArcGIS Online Map Viewer
Service Description: BaseMap/Rilievo_wgs_image
Name: BaseMap/Rilievo_wgs_image
Description:
Single Fused Map Cache: false
Extent:
XMin: 453872.60481660883
YMin: 4943678.259811462
XMax: 697592.6048166088
YMax: 5165998.259811462
Spatial Reference: 32632
(32632)
LatestVCSWkid(0)
Initial Extent:
XMin: 453872.60481660883
YMin: 4943678.259811462
XMax: 697592.6048166088
YMax: 5165998.259811462
Spatial Reference: 32632
(32632)
LatestVCSWkid(0)
Full Extent:
XMin: 453872.60481660883
YMin: 4943678.259811462
XMax: 697592.6048166088
YMax: 5165998.259811462
Spatial Reference: 32632
(32632)
LatestVCSWkid(0)
Pixel Size X: 40.0
Pixel Size Y: 40.0
Band Count: 3
Pixel Type: U8
RasterFunction Infos: {"rasterFunctionInfos": [{
"name": "None",
"description": "",
"help": ""
}]}
Mensuration Capabilities: Basic
Has Histograms: true
Has Colormap: false
Has Multi Dimensions : false
Rendering Rule:
Min Scale: 0
Max Scale: 0
Copyright Text:
Service Data Type: esriImageServiceDataTypeRGB
Min Values: 0, 0, 0
Max Values: 255, 255, 255
Mean Values: 209.56494055466408, 218.4202848235698, 199.3354266810934
Standard Deviation Values: 57.56979609699285, 53.98327254396573, 67.72884617823622
Object ID Field:
Fields:
None
Default Mosaic Method: Center
Allowed Mosaic Methods:
SortField:
SortValue: null
Mosaic Operator: First
Default Compression Quality: 75
Default Resampling Method: Bilinear
Max Record Count: null
Max Image Height: 4100
Max Image Width: 15000
Max Download Image Count: null
Max Mosaic Image Count: null
Allow Raster Function: true
Allow Copy: null
Allow Analysis: null
Allow Compute TiePoints: false
Supports Statistics: false
Supports Advanced Queries: false
Use StandardizedQueries: false
Raster Type Infos:
Name: Raster Dataset
Description: Supports all ArcGIS Raster Datasets
Help:
Has Raster Attribute Table: false
Edit Fields Info: null
Ownership Based AccessControl For Rasters: null
Child Resources:
Info
Histograms
Key Properties
Legend
Raster Function Infos
Supported Operations:
Export Image
Identify
Measure
Compute Histograms
Compute Statistics Histograms
Get Samples
Compute Class Statistics
Query Boundary
Compute Pixel Location
Compute Angles
Validate
Project