View In:
ArcGIS JavaScript
ArcGIS Online Map Viewer
ArcGIS Earth
ArcMap
View Footprint In:
ArcGIS Online Map Viewer
Service Description: BaseMap/Lombardia_GAI_UTM_image
Name: BaseMap/Lombardia_GAI_UTM_image
Description:
Single Fused Map Cache: false
Extent:
XMin: 447596.1820188791
YMin: 4943848.128263955
XMax: 697346.8820828785
YMax: 5166998.451399955
Spatial Reference: 32632
(32632)
LatestVCSWkid(0)
Initial Extent:
XMin: 447596.1820188791
YMin: 4943848.128263955
XMax: 697346.8820828785
YMax: 5166998.451399955
Spatial Reference: 32632
(32632)
LatestVCSWkid(0)
Full Extent:
XMin: 447596.1820188791
YMin: 4943848.128263955
XMax: 697346.8820828785
YMax: 5166998.451399955
Spatial Reference: 32632
(32632)
LatestVCSWkid(0)
Pixel Size X: 0.6985759999999983
Pixel Size Y: 0.6985759999999999
Band Count: 1
Pixel Type: U8
RasterFunction Infos: {"rasterFunctionInfos": [
{
"name": "Stretched",
"description": "A raster function template.",
"help": ""
},
{
"name": "None",
"description": "",
"help": ""
}
]}
Mensuration Capabilities: Basic
Has Histograms: true
Has Colormap: false
Has Multi Dimensions : false
Rendering Rule:
Min Scale: 0
Max Scale: 0
Copyright Text: Regione Lombardia- IGMI: Volo GAI 1954
Service Data Type: esriImageServiceDataTypeGeneric
Min Values: 0
Max Values: 255
Mean Values: 171.17648849323228
Standard Deviation Values: 89.99409980022492
Object ID Field:
Fields:
None
Default Mosaic Method: Center
Allowed Mosaic Methods:
SortField:
SortValue: null
Mosaic Operator: First
Default Compression Quality: 75
Default Resampling Method: Nearest
Max Record Count: null
Max Image Height: 4100
Max Image Width: 15000
Max Download Image Count: null
Max Mosaic Image Count: null
Allow Raster Function: true
Allow Copy: null
Allow Analysis: null
Allow Compute TiePoints: false
Supports Statistics: false
Supports Advanced Queries: false
Use StandardizedQueries: false
Raster Type Infos:
Name: Raster Dataset
Description: Supports all ArcGIS Raster Datasets
Help:
Has Raster Attribute Table: true
Edit Fields Info: null
Ownership Based AccessControl For Rasters: null
Child Resources:
Info
Raster Attribute Table
Histograms
Key Properties
Legend
Raster Function Infos
Supported Operations:
Export Image
Identify
Measure
Compute Histograms
Compute Statistics Histograms
Get Samples
Compute Class Statistics
Query Boundary
Compute Pixel Location
Compute Angles
Validate
Project