View In:
ArcGIS JavaScript
ArcGIS Online Map Viewer
ArcGIS Earth
ArcMap
View Footprint In:
ArcGIS Online Map Viewer
Service Description: viewer33/ctr10000UTM32N
Name: viewer33/ctr10000UTM32N
Description:
Single Fused Map Cache: false
Extent:
XMin: 460668.162
YMin: 4947422.25
XMax: 691622.1070000001
YMax: 5165393.62
Spatial Reference: 32632
(32632)
Initial Extent:
XMin: 460668.162
YMin: 4947422.25
XMax: 691622.1070000001
YMax: 5165393.62
Spatial Reference: 32632
(32632)
Full Extent:
XMin: 460668.162
YMin: 4947422.25
XMax: 691622.1070000001
YMax: 5165393.62
Spatial Reference: 32632
(32632)
Pixel Size X: 0.6350000000000002
Pixel Size Y: 0.6350000000000003
Band Count: 3
Pixel Type: U8
RasterFunction Infos: {"rasterFunctionInfos": [{
"name": "None",
"description": "",
"help": ""
}]}
Mensuration Capabilities: Basic
Has Histograms: true
Has Colormap: false
Has Multi Dimensions : false
Rendering Rule:
Min Scale: 0
Max Scale: 0
Copyright Text:
Service Data Type: esriImageServiceDataTypeRGB
Min Values: 0, 0, 0
Max Values: 255, 255, 255
Mean Values: 218.8280400009765, 218.8280400009765, 218.8280400009765
Standard Deviation Values: 85.56402655530441, 85.56402655530441, 85.56402655530441
Object ID Field:
Fields:
None
Default Mosaic Method: Center
Allowed Mosaic Methods:
SortField:
SortValue: null
Mosaic Operator: First
Default Compression Quality: 75
Default Resampling Method: Bilinear
Max Record Count: null
Max Image Height: 4100
Max Image Width: 15000
Max Download Image Count: null
Max Mosaic Image Count: null
Allow Raster Function: true
Allow Compute TiePoints: false
Supports Statistics: false
Supports Advanced Queries: false
Use StandardizedQueries: false
Raster Type Infos:
Name: Raster Dataset
Description: Supports all ArcGIS Raster Datasets
Help:
Has Raster Attribute Table: false
Edit Fields Info: null
Ownership Based AccessControl For Rasters: null
Child Resources:
Info
Histograms
Key Properties
Legend
rasterFunctionInfos
Supported Operations:
Export Image
Identify
Measure
Compute Histograms
Compute Statistics Histograms
Get Samples
Compute Class Statistics
Query Boundary
Compute Pixel Location
Validate
Project