{
 "currentVersion": 10.91,
 "serviceDescription": "viewer33/ctr10000UTM32N",
 "name": "viewer33/ctr10000UTM32N",
 "description": "",
 "extent": {
  "xmin": 460668.162,
  "ymin": 4947422.25,
  "xmax": 691622.1070000001,
  "ymax": 5165393.62,
  "spatialReference": {
   "wkid": 32632,
   "latestWkid": 32632
  }
 },
 "initialExtent": {
  "xmin": 460668.162,
  "ymin": 4947422.25,
  "xmax": 691622.1070000001,
  "ymax": 5165393.62,
  "spatialReference": {
   "wkid": 32632,
   "latestWkid": 32632
  }
 },
 "fullExtent": {
  "xmin": 460668.162,
  "ymin": 4947422.25,
  "xmax": 691622.1070000001,
  "ymax": 5165393.62,
  "spatialReference": {
   "wkid": 32632,
   "latestWkid": 32632
  }
 },
 "pixelSizeX": 0.6350000000000002,
 "pixelSizeY": 0.6350000000000003,
 "bandCount": 3,
 "pixelType": "U8",
 "minPixelSize": 0,
 "maxPixelSize": 0,
 "copyrightText": "",
 "serviceDataType": "esriImageServiceDataTypeRGB",
 "minValues": [
  0,
  0,
  0
 ],
 "maxValues": [
  255,
  255,
  255
 ],
 "meanValues": [
  218.8280400009765,
  218.8280400009765,
  218.8280400009765
 ],
 "stdvValues": [
  85.56402655530441,
  85.56402655530441,
  85.56402655530441
 ],
 "objectIdField": "",
 "fields": [],
 "capabilities": "Mensuration,Image,Metadata",
 "defaultMosaicMethod": "Center",
 "allowedMosaicMethods": "",
 "sortField": "",
 "sortValue": null,
 "sortAscending": true,
 "mosaicOperator": "First",
 "defaultCompressionQuality": 75,
 "defaultResamplingMethod": "Bilinear",
 "maxImageHeight": 4100,
 "maxImageWidth": 15000,
 "allowRasterFunction": true,
 "rasterFunctionInfos": [
  {
   "name": "None",
   "description": "",
   "help": ""
  }
 ],
 "rasterTypeInfos": [
  {
   "name": "Raster Dataset",
   "description": "Supports all ArcGIS Raster Datasets",
   "help": ""
  }
 ],
 "mensurationCapabilities": "Basic",
 "hasHistograms": true,
 "hasColormap": false,
 "hasRasterAttributeTable": false,
 "minScale": 0,
 "maxScale": 0,
 "exportTilesAllowed": false,
 "hasMultidimensions": false,
 "supportsStatistics": false,
 "supportsAdvancedQueries": false,
 "editFieldsInfo": null,
 "ownershipBasedAccessControlForRasters": null,
 "allowComputeTiePoints": false,
 "useStandardizedQueries": false,
 "advancedQueryCapabilities": {
  "useStandardizedQueries": false,
  "supportsStatistics": false,
  "supportsOrderBy": false,
  "supportsDistinct": false,
  "supportsPagination": false
 },
 "spatialReference": {
  "wkid": 32632,
  "latestWkid": 32632
 }
}
