{
 "currentVersion": 10.8,
 "serviceDescription": "L'ortofoto digitale a colori IT2000 è stata realizzata in due edizioni: l'edizione 2000, le cui riprese sono del 1998-99 - l'edizione 2003, con riprese del 2003",
 "name": "BaseMap/ortofoto1998UTM_c",
 "description": "L'ortofoto digitale a colori IT2000 è stata realizzata in due edizioni: l'edizione 2000, le cui riprese sono del 1998-99 - l'edizione 2003, con riprese del 2003",
 "extent": {
  "xmin": 454092.1006813422,
  "ymin": 4943901.758896266,
  "xmax": 697369.1006813422,
  "ymax": 5165998.758896266,
  "spatialReference": {
   "wkid": 32632,
   "latestWkid": 32632
  }
 },
 "initialExtent": {
  "xmin": 454092.1006813422,
  "ymin": 4943901.758896266,
  "xmax": 697369.1006813422,
  "ymax": 5165998.758896266,
  "spatialReference": {
   "wkid": 32632,
   "latestWkid": 32632
  }
 },
 "fullExtent": {
  "xmin": 454092.1006813422,
  "ymin": 4943901.758896266,
  "xmax": 697369.1006813422,
  "ymax": 5165998.758896266,
  "spatialReference": {
   "wkid": 32632,
   "latestWkid": 32632
  }
 },
 "pixelSizeX": 1,
 "pixelSizeY": 1,
 "bandCount": 3,
 "pixelType": "U8",
 "minPixelSize": 0,
 "maxPixelSize": 0,
 "copyrightText": "Compagnia Generale Riprese aeree di Parma",
 "serviceDataType": "esriImageServiceDataTypeRGB",
 "minValues": [
  1,
  1,
  1
 ],
 "maxValues": [
  255,
  255,
  255
 ],
 "meanValues": [
  94.814770429468,
  106.61175787352,
  100.423987544
 ],
 "stdvValues": [
  52.334595318763,
  44.966868988276,
  42.82441276866
 ],
 "objectIdField": "",
 "fields": [],
 "capabilities": "Image,Metadata,Mensuration",
 "defaultMosaicMethod": "Center",
 "allowedMosaicMethods": "",
 "sortField": "",
 "sortValue": null,
 "sortAscending": true,
 "mosaicOperator": "First",
 "defaultCompressionQuality": 75,
 "defaultResamplingMethod": "Bilinear",
 "maxImageHeight": 4100,
 "maxImageWidth": 15000,
 "allowRasterFunction": true,
 "rasterFunctionInfos": [
  {
   "name": "None",
   "description": "",
   "help": ""
  }
 ],
 "rasterTypeInfos": [
  {
   "name": "Raster Dataset",
   "description": "Supports all ArcGIS Raster Datasets",
   "help": ""
  }
 ],
 "mensurationCapabilities": "Basic",
 "hasHistograms": true,
 "hasColormap": false,
 "hasRasterAttributeTable": false,
 "minScale": 0,
 "maxScale": 0,
 "exportTilesAllowed": false,
 "hasMultidimensions": false,
 "supportsStatistics": false,
 "supportsAdvancedQueries": false,
 "editFieldsInfo": null,
 "ownershipBasedAccessControlForRasters": null,
 "allowComputeTiePoints": false,
 "useStandardizedQueries": false,
 "advancedQueryCapabilities": {
  "useStandardizedQueries": false,
  "supportsStatistics": false,
  "supportsOrderBy": false,
  "supportsDistinct": false,
  "supportsPagination": false
 },
 "spatialReference": {
  "wkid": 32632,
  "latestWkid": 32632
 }
}
