{
 "currentVersion": 10.8,
 "serviceDescription": "BaseMap/ortofoto1998",
 "name": "BaseMap/ortofoto1998",
 "description": "",
 "extent": {
  "xmin": 1454119.5,
  "ymin": 4943920.499999999,
  "xmax": 1697399.5,
  "ymax": 5166020.499999999,
  "spatialReference": {
   "wkid": 102091,
   "latestWkid": 3003
  }
 },
 "initialExtent": {
  "xmin": 1454119.5,
  "ymin": 4943920.499999999,
  "xmax": 1697399.5,
  "ymax": 5166020.499999999,
  "spatialReference": {
   "wkid": 102091,
   "latestWkid": 3003
  }
 },
 "fullExtent": {
  "xmin": 1454119.5,
  "ymin": 4943920.499999999,
  "xmax": 1697399.5,
  "ymax": 5166020.499999999,
  "spatialReference": {
   "wkid": 102091,
   "latestWkid": 3003
  }
 },
 "pixelSizeX": 1,
 "pixelSizeY": 1,
 "bandCount": 3,
 "pixelType": "U8",
 "minPixelSize": 0,
 "maxPixelSize": 0,
 "copyrightText": "Compagnia Generale Riprese aeree di Parma",
 "serviceDataType": "esriImageServiceDataTypeRGB",
 "minValues": [
  0,
  0,
  0
 ],
 "maxValues": [
  255,
  255,
  255
 ],
 "meanValues": [
  174.4328453345513,
  180.3581625031407,
  177.05322849791776
 ],
 "stdvValues": [
  87.93367896385213,
  80.40372851291555,
  82.88743274647463
 ],
 "objectIdField": "",
 "fields": [],
 "capabilities": "Mensuration,Image,Metadata",
 "defaultMosaicMethod": "Center",
 "allowedMosaicMethods": "",
 "sortField": "",
 "sortValue": null,
 "sortAscending": true,
 "mosaicOperator": "First",
 "defaultCompressionQuality": 75,
 "defaultResamplingMethod": "Bilinear",
 "maxImageHeight": 4100,
 "maxImageWidth": 15000,
 "allowRasterFunction": true,
 "rasterFunctionInfos": [
  {
   "name": "None",
   "description": "",
   "help": ""
  }
 ],
 "rasterTypeInfos": [
  {
   "name": "Raster Dataset",
   "description": "Supports all ArcGIS Raster Datasets",
   "help": ""
  }
 ],
 "mensurationCapabilities": "Basic",
 "hasHistograms": true,
 "hasColormap": false,
 "hasRasterAttributeTable": false,
 "minScale": 0,
 "maxScale": 0,
 "exportTilesAllowed": false,
 "hasMultidimensions": false,
 "supportsStatistics": false,
 "supportsAdvancedQueries": false,
 "editFieldsInfo": null,
 "ownershipBasedAccessControlForRasters": null,
 "allowComputeTiePoints": false,
 "useStandardizedQueries": false,
 "advancedQueryCapabilities": {
  "useStandardizedQueries": false,
  "supportsStatistics": false,
  "supportsOrderBy": false,
  "supportsDistinct": false,
  "supportsPagination": false
 },
 "spatialReference": {
  "wkid": 102091,
  "latestWkid": 3003
 }
}
