{
 "currentVersion": 10.8,
 "serviceDescription": "BaseMap/fisica_utm_image",
 "name": "BaseMap/fisica_utm_image",
 "description": "",
 "extent": {
  "xmin": 460659.2162096968,
  "ymin": 4947427.490898353,
  "xmax": 691634.8931696968,
  "ymax": 5165408.0045303535,
  "spatialReference": {
   "wkid": 32632,
   "latestWkid": 32632
  }
 },
 "initialExtent": {
  "xmin": 460659.2162096968,
  "ymin": 4947427.490898353,
  "xmax": 691634.8931696968,
  "ymax": 5165408.0045303535,
  "spatialReference": {
   "wkid": 32632,
   "latestWkid": 32632
  }
 },
 "fullExtent": {
  "xmin": 460659.2162096968,
  "ymin": 4947427.490898353,
  "xmax": 691634.8931696968,
  "ymax": 5165408.0045303535,
  "spatialReference": {
   "wkid": 32632,
   "latestWkid": 32632
  }
 },
 "pixelSizeX": 12.715424,
 "pixelSizeY": 12.715424000000025,
 "bandCount": 3,
 "pixelType": "U16",
 "minPixelSize": 0,
 "maxPixelSize": 0,
 "copyrightText": "",
 "serviceDataType": "esriImageServiceDataTypeGeneric",
 "minValues": [
  0,
  0,
  0
 ],
 "maxValues": [
  255,
  255,
  255
 ],
 "meanValues": [
  177.44213141587747,
  182.26868850879913,
  154.85107124969127
 ],
 "stdvValues": [
  60.86235425338084,
  60.95685794841419,
  59.308221701437766
 ],
 "objectIdField": "",
 "fields": [],
 "capabilities": "Image,Metadata,Mensuration",
 "defaultMosaicMethod": "Center",
 "allowedMosaicMethods": "",
 "sortField": "",
 "sortValue": null,
 "sortAscending": true,
 "mosaicOperator": "First",
 "defaultCompressionQuality": 75,
 "defaultResamplingMethod": "Bilinear",
 "maxImageHeight": 4100,
 "maxImageWidth": 15000,
 "allowRasterFunction": true,
 "rasterFunctionInfos": [
  {
   "name": "None",
   "description": "",
   "help": ""
  }
 ],
 "rasterTypeInfos": [
  {
   "name": "Raster Dataset",
   "description": "Supports all ArcGIS Raster Datasets",
   "help": ""
  }
 ],
 "mensurationCapabilities": "Basic",
 "hasHistograms": true,
 "hasColormap": false,
 "hasRasterAttributeTable": false,
 "minScale": 0,
 "maxScale": 0,
 "exportTilesAllowed": false,
 "hasMultidimensions": false,
 "supportsStatistics": false,
 "supportsAdvancedQueries": false,
 "editFieldsInfo": null,
 "ownershipBasedAccessControlForRasters": null,
 "allowComputeTiePoints": false,
 "useStandardizedQueries": false,
 "advancedQueryCapabilities": {
  "useStandardizedQueries": false,
  "supportsStatistics": false,
  "supportsOrderBy": false,
  "supportsDistinct": false,
  "supportsPagination": false
 },
 "spatialReference": {
  "wkid": 32632,
  "latestWkid": 32632
 }
}
