{
 "currentVersion": 10.81,
 "serviceDescription": "BaseMap/ctr_1980_1994",
 "name": "BaseMap/ctr_1980_1994",
 "description": "",
 "extent": {
  "xmin": 459973.472,
  "ymin": 4944980.675,
  "xmax": 691970.7220000001,
  "ymax": 5169977.05,
  "spatialReference": {
   "wkid": 32632,
   "latestWkid": 32632
  }
 },
 "initialExtent": {
  "xmin": 459973.472,
  "ymin": 4944980.675,
  "xmax": 691970.7220000001,
  "ymax": 5169977.05,
  "spatialReference": {
   "wkid": 32632,
   "latestWkid": 32632
  }
 },
 "fullExtent": {
  "xmin": 459973.472,
  "ymin": 4944980.675,
  "xmax": 691970.7220000001,
  "ymax": 5169977.05,
  "spatialReference": {
   "wkid": 32632,
   "latestWkid": 32632
  }
 },
 "pixelSizeX": 0.6350000000000001,
 "pixelSizeY": 0.635,
 "bandCount": 3,
 "pixelType": "U8",
 "minPixelSize": 0.26458386250105836,
 "maxPixelSize": 793.7515875031751,
 "copyrightText": "",
 "serviceDataType": "esriImageServiceDataTypeRGB",
 "minValues": [
  0,
  0,
  0
 ],
 "maxValues": [
  255,
  255,
  255
 ],
 "meanValues": [
  237.8450783660677,
  237.8450783660677,
  237.8450783660677
 ],
 "stdvValues": [
  61.55446510649178,
  61.55446510649178,
  61.55446510649178
 ],
 "objectIdField": "",
 "fields": [],
 "capabilities": "Mensuration,Image,Metadata",
 "defaultMosaicMethod": "Center",
 "allowedMosaicMethods": "",
 "sortField": "",
 "sortValue": null,
 "sortAscending": true,
 "mosaicOperator": "First",
 "defaultCompressionQuality": 75,
 "defaultResamplingMethod": "Bilinear",
 "maxImageHeight": 4100,
 "maxImageWidth": 15000,
 "singleFusedMapCache": true,
 "tileInfo": {
  "rows": 256,
  "cols": 256,
  "dpi": 96,
  "format": "PNG",
  "compressionQuality": 0,
  "origin": {
   "x": -5120900,
   "y": 9998100
  },
  "spatialReference": {
   "wkid": 32632,
   "latestWkid": 32632
  },
  "lods": [
   {
    "level": 0,
    "resolution": 793.7515875031751,
    "scale": 3000000
   },
   {
    "level": 1,
    "resolution": 661.4596562526459,
    "scale": 2500000
   },
   {
    "level": 2,
    "resolution": 529.1677250021168,
    "scale": 2000000
   },
   {
    "level": 3,
    "resolution": 264.5838625010584,
    "scale": 1000000
   },
   {
    "level": 4,
    "resolution": 132.2919312505292,
    "scale": 500000
   },
   {
    "level": 5,
    "resolution": 52.91677250021167,
    "scale": 200000
   },
   {
    "level": 6,
    "resolution": 26.458386250105836,
    "scale": 100000
   },
   {
    "level": 7,
    "resolution": 13.229193125052918,
    "scale": 50000
   },
   {
    "level": 8,
    "resolution": 6.614596562526459,
    "scale": 25000
   },
   {
    "level": 9,
    "resolution": 3.9687579375158752,
    "scale": 15000
   },
   {
    "level": 10,
    "resolution": 2.6458386250105836,
    "scale": 10000
   },
   {
    "level": 11,
    "resolution": 1.3229193125052918,
    "scale": 5000
   },
   {
    "level": 12,
    "resolution": 0.5291677250021167,
    "scale": 2000
   },
   {
    "level": 13,
    "resolution": 0.26458386250105836,
    "scale": 1000
   }
  ]
 },
 "cacheType": "Map",
 "allowRasterFunction": true,
 "rasterFunctionInfos": [
  {
   "name": "None",
   "description": "",
   "help": ""
  }
 ],
 "rasterTypeInfos": [
  {
   "name": "Raster Dataset",
   "description": "Supports all ArcGIS Raster Datasets",
   "help": ""
  }
 ],
 "mensurationCapabilities": "Basic",
 "hasHistograms": true,
 "hasColormap": false,
 "hasRasterAttributeTable": false,
 "minScale": 3000000,
 "maxScale": 1000,
 "exportTilesAllowed": false,
 "hasMultidimensions": false,
 "supportsStatistics": false,
 "supportsAdvancedQueries": false,
 "editFieldsInfo": null,
 "ownershipBasedAccessControlForRasters": null,
 "allowComputeTiePoints": false,
 "useStandardizedQueries": false,
 "advancedQueryCapabilities": {
  "useStandardizedQueries": false,
  "supportsStatistics": false,
  "supportsOrderBy": false,
  "supportsDistinct": false,
  "supportsPagination": false
 },
 "spatialReference": {
  "wkid": 32632,
  "latestWkid": 32632
 }
}
